BEGIN:VCALENDAR
VERSION:2.0
PRODID:-//CERN//INDICO//EN
BEGIN:VEVENT
SUMMARY:Coupled Hamilton–Jacobi–Bellman equations in finite-player dif
 fusion control games
DTSTART:20260410T081500Z
DTEND:20260410T091500Z
DTSTAMP:20260423T213100Z
UID:indico-event-334@indico.rz.uni-jena.de
DESCRIPTION:Speakers: Amireh Mousavi (U Jena)\n\nhttps://indico.rz.uni-jen
 a.de/event/334/
LOCATION:1075 (Inselplatz 5)
URL:https://indico.rz.uni-jena.de/event/334/
END:VEVENT
END:VCALENDAR
