BEGIN:VCALENDAR
VERSION:2.0
PRODID:-//CERN//INDICO//EN
BEGIN:VEVENT
SUMMARY:Workshop: Introduction to Arduino Microcontrollers
DTSTART:20260506T110000Z
DTEND:20260506T130000Z
DTSTAMP:20260421T021400Z
UID:indico-event-346@indico.rz.uni-jena.de
CONTACT:gabriel.doerner@uni-jena.de
DESCRIPTION:Speakers: Christian Kauhaus (Ernst-Abbe-Hochschule Jena)\n\nPr
 ogramming a microcontroller is easy! In this workshop\, we will take first
  steps with Arduino. You will get hands-on experience on simple microcontr
 oller applications.\nArduino is a great platform for prototyping. You will
  learn how to implement simple control logic and state displays. This may 
 serve as a good start for putting a microcontroler at work in your own pro
 ject.\nThe workshop will also provide you with a brief overview of differe
 nt microcontroller families and what they are good for. This will help you
  to switch platforms if your project’s development hits some limitations
  of the Arduino platform.\nThis workshop assumes basic knowledge in C/C++ 
 programming. No previous experience with microcontrollers is expected. Ple
 ase bring your laptop and install the Arduino environment from https://ard
 uino.cc in advance. We will provide Arduino development boards.\n\nhttps:/
 /indico.rz.uni-jena.de/event/346/
IMAGE;VALUE=URI:https://indico.rz.uni-jena.de/event/346/logo-2740262083.pn
 g
LOCATION:StartUpLab\, Building 4\, Room 04.00.21 (Ernst-Abbe-Hochschule Je
 na)
URL:https://indico.rz.uni-jena.de/event/346/
END:VEVENT
END:VCALENDAR
