BEGIN:VCALENDAR
VERSION:2.0
PRODID:-//CERN//INDICO//EN
BEGIN:VEVENT
SUMMARY:Workshop: 3D-Druck als Werkzeug im Produktentwicklungsprozess
DTSTART:20260527T110000Z
DTEND:20260527T130000Z
DTSTAMP:20260421T082000Z
UID:indico-event-347@indico.rz.uni-jena.de
CONTACT:gabriel.doerner@uni-jena.de
DESCRIPTION:Speakers: Toni Wille (JENAINNOVATION)\n\nEin 3D-Drucker als Er
 gänzung zu Bohrmaschine\, Laubsäge und Co? Mit der heutigen Vielfalt der
  am Markt verfügbaren 3D-Drucker ist die Erweiterung der Hobby-Werkstatt 
 mittlerweile für jeden realisierbar. Ob technische Anwendungen wie Ersatz
 teile\, Weihnachtsgeschenke für die Eltern oder nützliche Gadgets für d
 en Alltag - 3D-Druck bietet unzählige Möglichkeiten. Der Workshop richte
 t sich an Maker und technisch Interessierte\, die ihren Horizont erweitern
  möchten und eventuell sogar über die Anschaffung eines eigenen 3D-Druck
 ers nachdenken. Im Workshop werden Anwendungsbeispiele diskutiert\, Vor- u
 nd Nachteile von verschiedenen Prinzipien beschrieben sowie in einem prakt
 ischen Teil Haushaltsgadgets nach Wahl vor Ort gedruckt. Vorkenntnisse im 
 Bereich 3D-Druck sind nicht nötig.\nInhalte:\n- kurze Einführen in die T
 hematik 3D-Druck\n- Anwendungen für 3D-Druck im persönlichen Alltag\n- L
 ive-Demonstration der vorhandenen Anlagentechnik\n- Hands-On Beispiele und
  Umsetzung eigener Ideen\n\nhttps://indico.rz.uni-jena.de/event/347/
IMAGE;VALUE=URI:https://indico.rz.uni-jena.de/event/347/logo-2740262083.pn
 g
LOCATION:StartUpLab\, Building 4\, Room 04.00.21 (Ernst-Abbe-Hochschule Je
 na)
URL:https://indico.rz.uni-jena.de/event/347/
END:VEVENT
END:VCALENDAR
